BEGIN:VCALENDAR
VERSION:2.0
PRODID:-//peaceCENTER - ECPv4.6.13//NONSGML v1.0//EN
CALSCALE:GREGORIAN
METHOD:PUBLISH
X-WR-CALNAME:peaceCENTER
X-ORIGINAL-URL:http://www.sanantoniopeace.center
X-WR-CALDESC:Events for peaceCENTER
BEGIN:VEVENT
DTSTART;TZID=America/Chicago:20160806T150000
DTEND;TZID=America/Chicago:20160806T200000
DTSTAMP:20260425T181840
CREATED:20160719T033251Z
LAST-MODIFIED:20160719T033251Z
UID:8025-1470495600-1470513600@www.sanantoniopeace.center
SUMMARY:Community Peace Rally @ Pittman-Sullivan Park
DESCRIPTION: \n
URL:http://www.sanantoniopeace.center/event/community-peace-rally-pittman-sullivan-park/
LOCATION:1101 Iowa\, San Antonio\, TX\, 78205\, United States
CATEGORIES:Other
END:VEVENT
END:VCALENDAR