BEGIN:VCALENDAR
VERSION:2.0
PRODID:-//peaceCENTER - ECPv4.6.13//NONSGML v1.0//EN
CALSCALE:GREGORIAN
METHOD:PUBLISH
X-WR-CALNAME:peaceCENTER
X-ORIGINAL-URL:http://www.sanantoniopeace.center
X-WR-CALDESC:Events for peaceCENTER
BEGIN:VEVENT
DTSTART;TZID=America/Chicago:20151207T180000
DTEND;TZID=America/Chicago:20151207T210000
DTSTAMP:20260425T122310
CREATED:20151124T014505Z
LAST-MODIFIED:20151124T014505Z
UID:5209-1449511200-1449522000@www.sanantoniopeace.center
SUMMARY:Community Forum: Syria\, Paris\, Isis and the U.S. Military's influence in San Antonio @ Movement Gallery
DESCRIPTION:This is a community discussion that will bring historical context to the recent events in Paris and Syia while connecting what is going on locally in San Antonio. As the dominant narrative continues to perpetuate the bourgeoisie and white supremacy\, the working class and people of color continue to be excluded from the political discourse. \nWhat does it mean to be a military city why are we preserving this exploitative industry. This discussion is a way to bring and share political education and awareness to the international and global mobilization for human rights to Syrian and other refugees. \nFor background studies please review the following links: \nPodcast of Phyllis Bennis on Paris attacks: http://pdamerica.hipcast.com/deluge/pdamerica-20151116214433-7216.mp3 \nIVAW Statement on Paris attack: http://www.ivaw.org/blog/ivaw-statement-recent-terror-attacks \nDrop the MIC Slide Show: https://docs.google.com/presentation/d/1JNaY6dZWYGEk1aoZm3ANwdev_z-7TMZejiP-2y8wP4Y/edit?usp=sharing \n\n \nThis event is free and open to the public. \n
URL:http://www.sanantoniopeace.center/event/community-forum-syria-paris-isis-and-the-u-s-militarys-influence-in-san-antonio-movement-gallery/
LOCATION:1412 E. Commerce\, San Antonio\, TX\, 78205\, United States
END:VEVENT
END:VCALENDAR