BEGIN:VCALENDAR
VERSION:2.0
PRODID:-//peaceCENTER - ECPv4.6.13//NONSGML v1.0//EN
CALSCALE:GREGORIAN
METHOD:PUBLISH
X-WR-CALNAME:peaceCENTER
X-ORIGINAL-URL:http://www.sanantoniopeace.center
X-WR-CALDESC:Events for peaceCENTER
BEGIN:VEVENT
DTSTART;TZID=America/Chicago:20150531T140000
DTEND;TZID=America/Chicago:20150531T200000
DTSTAMP:20260425T124425
CREATED:20150527T214207Z
LAST-MODIFIED:20150527T214220Z
UID:3142-1433080800-1433102400@www.sanantoniopeace.center
SUMMARY:Common Ground II: Sustainable San Antonio
DESCRIPTION: \nChildrens’ activities\, info booths\, and food will be available through the day \n2:00-2:20 Opening Remarks w/ Keynote From Office of Sustainability \n2:30 – 5:30 DJ EPSR (Solar Stage) \n2:30-3:00 Traditional Foods for Health and Well-Being\n2:30-3:00 Healing Plants and How to Use Them\n2:45-3:00 Everyday Composting for Busy People \n3:05-3:20 Wildscaping with Native Plants\n3:10-3:40 The Future of Food in our Urban Landscape\n3:10-3:30 Traditionally Used Plants in our Region \n3:30-4:00 EarthKind Vegetable Gardening\n3:40-4:20 Our Past\, Present\, and Sustainable Future\n3:50-4:20 Natural Building \n4:10-4:40 Got Rain? Catch it\, Sink it\, Store it\n4:20-4:50 Supporting an Alternative Economy\n4:30-5:00 Radical Mycology and Soil Remediation \n4:50-5:30 Urban Plant ID Walk\n5:00-5:30 Local Perspectives on Intentional Community\n5:00-5:30 Self Care for a Sustainable You\n5:10-5:30 Attainable Ways to be Sustainable \n5:40-6:10 Interactive Group Synthesis \n6:10:7:00 Laura Marie\n7:10:8:00 Los Nahuatlatos \nThe purpose of Common Ground is to introduce the public to the many programs San Antonio has to offer that contribute to a sustainable city. This includes environmental as well as community building and health and wellness programs. It is also an opportunity for the people working on sustainable goals here to come together\, meet each other\, and form relationships for future collaboration. \nOur theme this year is Our Past\, Present\, and Sustainable Future. We hope to promote awareness of the roots of this city\, the culture here\, and how knowing where we come from is a very important facet of knowing how to become more sustainable together. \nWe will have a health and wellness area offering sessions from local traditional healers\, fun activities for all ages such as bicycling games\, face painting\, seed bomb making\, and potting small plants\, awesome wares for sale by local artisans and producers as well as information tables from over 30 different sustainability related organizations and businesses. \nSeveral food trucks will be on hand including the solar powered Jusumungus Truck\, Swamp Kitchen\, and Sensational Salad Station. Music will be provided by some of San Anto’s best performers on Renewable Republic’s Solar Stage. \nFoodies\, DIYers\, Gardeners\, Naturalists\, Artists\, Activists\, Environmentalists\, Community Workers\, Cyclists\, Crunchy Mommas\, Healers\, Music Lovers\, and Everyday Wonderful People\, you don’t want to miss this event. \nGroups in attendance:\nGreen Spaces Alliance of South Texas\nSATX Permaculture\nROLL Models SATX\nBexar County Youth Gardens Program\nTexas A&M AgriLife Extension Bexar County\nAlamo Area Texas Master Naturalists\nSierra Club Alamo Group\nNational Center for Appropriate Technology\nNational Park Service\nNative Plant Society of Texas\nSan Antonio Aquaponic and TransFarming Group\nSan Antonio River Authority\nStudents for Environmental Awareness\nChef Cooperatives\nCafe Commerce San Antonio\nFood Policy Council of San Antonio\nHerbal Medics\nMujeres Mercado\nMarch Against Monsanto San Antonio\nPrickly Pear Living History Museum\nEsperanza Peace & Justice Center\nMujerArte\nSan Antonio Interfaith Power & Light\nSouthwest Workers Union\nSA Time Dollar Community Connections\nSan Antonio Weston A. Price Foundation\nYanaguana Mamas\nEdwards Aquifer Authority (EAA)\nHabitable Spaces\nMUSIC Project\nOffice of Sustainability\nSan Antonio Sustainable Living \nBusinesses\nElement Kombucha\nThe Renewable Republic\nJusamungus\nThe Sensational Salad Station\nSwamp Kitchen\nMercado O’liva\nLocalsprout\nThe Human Path\nKersey Ceramics\nTexas Black Gold Garlic\nFour Hands Midwifery- Tawnya Schiebel Midwife\nHealthy Living Systems\nLas Ofrendas\nEl Puno y La Mano\nThe Soap Addicts\nTotal Harmony Yoga\nTruly Patchouli\nEarth Block Texas\nFinnegan’s Footprint\nGreen Energy of San Antonio\nUrban Spice Farm\nWildroot Organic \n
URL:http://www.sanantoniopeace.center/event/common-ground-ii-sustainable-san-antonio/
LOCATION:1802 N Main Ave\, San Antonio\, 78212\, United States
END:VEVENT
END:VCALENDAR