BEGIN:VCALENDAR
VERSION:2.0
PRODID:-//peaceCENTER - ECPv4.6.13//NONSGML v1.0//EN
CALSCALE:GREGORIAN
METHOD:PUBLISH
X-WR-CALNAME:peaceCENTER
X-ORIGINAL-URL:http://www.sanantoniopeace.center
X-WR-CALDESC:Events for peaceCENTER
BEGIN:VEVENT
DTSTART;TZID=America/Chicago:20160403T120000
DTEND;TZID=America/Chicago:20160403T170000
DTSTAMP:20260425T134417
CREATED:20160322T145937Z
LAST-MODIFIED:20160322T145937Z
UID:6703-1459684800-1459702800@www.sanantoniopeace.center
SUMMARY:Clothing Drive for the Battered Women's Shelter
DESCRIPTION:SATX4 is holding a clothing & toiletries drive for the local Battered Women’s & Children’s Shelter April 3rd from 12pm to 5pm. \nMost needed items-\nWomen: New or gently used women’s clothing\, hygiene products (pads\, tampons\, shampoo\, etc.)\, ethnic hair care & hygiene products\, bras\, underwear\, socks\, etc. \nBoth genders need: teen/children/baby clothes\, underwear & bras for adolescents\, nonviolent toys\, books\, or games\, diapers\, bottles\, baby wipes\, etc. \nThey will be out there all five hours\, so feel free to come anytime between 12 and 5. \n
URL:http://www.sanantoniopeace.center/event/clothing-drive-for-the-battered-womens-shelter/
LOCATION:3457 Fredericksburg Rd\, San Antonio\, TX\, 78201\, United States
END:VEVENT
END:VCALENDAR