BEGIN:VCALENDAR
VERSION:2.0
PRODID:-//peaceCENTER - ECPv4.6.13//NONSGML v1.0//EN
CALSCALE:GREGORIAN
METHOD:PUBLISH
X-WR-CALNAME:peaceCENTER
X-ORIGINAL-URL:http://www.sanantoniopeace.center
X-WR-CALDESC:Events for peaceCENTER
BEGIN:VEVENT
DTSTART;TZID=America/Chicago:20180114T160000
DTEND;TZID=America/Chicago:20180114T170000
DTSTAMP:20260425T015024
CREATED:20171218T181654Z
LAST-MODIFIED:20171219T055226Z
UID:11611-1515945600-1515949200@www.sanantoniopeace.center
SUMMARY:Citywide Interfaith MLK Worship Service
DESCRIPTION:The 30th Annual Citywide Interfaith Worship Service\, presented by the City of San Antonio Martin Luther King Jr. Commission\, will feature several invited guest speakers who will present on various topics of faith and the legacy of Dr. King. \n
URL:http://www.sanantoniopeace.center/event/citywide-interfaith-mlk-worship-service/
LOCATION:115 E. Main Plaza\, San Antonio\, TX\, 78205\, United States
CATEGORIES:DreamWeek,Other
ATTACH;FMTTYPE=image/jpeg:http://www.sanantoniopeace.center/wp-content/uploads/2017/12/DWSA_Citywide_Interfaith_Worship_Service_2018-2.jpg
END:VEVENT
END:VCALENDAR