BEGIN:VCALENDAR
VERSION:2.0
PRODID:-//peaceCENTER - ECPv4.6.13//NONSGML v1.0//EN
CALSCALE:GREGORIAN
METHOD:PUBLISH
X-WR-CALNAME:peaceCENTER
X-ORIGINAL-URL:http://www.sanantoniopeace.center
X-WR-CALDESC:Events for peaceCENTER
BEGIN:VEVENT
DTSTART;TZID=America/Chicago:20150117T090000
DTEND;TZID=America/Chicago:20150117T160000
DTSTAMP:20260425T141008
CREATED:20141227T015949Z
LAST-MODIFIED:20141227T015949Z
UID:1862-1421485200-1421510400@www.sanantoniopeace.center
SUMMARY:City Year Youth Empowerment Summit
DESCRIPTION: \nThe Youth Empowerment Summit is designed to educate youth on social issues they may experience in today’s society. City Year San Antonio will engage participants with empowering and educational sessions to connect them to the idea of Dr. King’s belief in the beloved community\, as a strong champion of City Year San Antonio. The Youth Empowerment Summit also offers educational workshops for youth of all ages focusing on the academic areas of science\, technology\, engineering\, arts and math (STEAM). \n
URL:http://www.sanantoniopeace.center/event/city-year-youth-empowerment-summit/
LOCATION:1801 Martin Luther King Drive\, San Antonio\, TX\, United States
END:VEVENT
END:VCALENDAR