BEGIN:VCALENDAR
VERSION:2.0
PRODID:-//peaceCENTER - ECPv4.6.13//NONSGML v1.0//EN
CALSCALE:GREGORIAN
METHOD:PUBLISH
X-WR-CALNAME:peaceCENTER
X-ORIGINAL-URL:http://www.sanantoniopeace.center
X-WR-CALDESC:Events for peaceCENTER
BEGIN:VEVENT
DTSTART;TZID=America/Chicago:20141025T160000
DTEND;TZID=America/Chicago:20141025T200000
DTSTAMP:20260425T190137
CREATED:20141022T114836Z
LAST-MODIFIED:20141022T114836Z
UID:562-1414252800-1414267200@www.sanantoniopeace.center
SUMMARY:CircleFest
DESCRIPTION:The Saturday before Halloween\, the Circle School hosts its fall festival\, Circle Fest.  Circle Fest is a family-friendly event featuring live music\, food booths\, children’s games and activities\, a tempting silent auction and their unique Pumpkin Path. \n  \n \n
URL:http://www.sanantoniopeace.center/event/circlefest/
LOCATION:217 Pershing\, San Antonio\, TX\, 78209\, United States
END:VEVENT
END:VCALENDAR