BEGIN:VCALENDAR
VERSION:2.0
PRODID:-//peaceCENTER - ECPv4.6.13//NONSGML v1.0//EN
CALSCALE:GREGORIAN
METHOD:PUBLISH
X-WR-CALNAME:peaceCENTER
X-ORIGINAL-URL:http://www.sanantoniopeace.center
X-WR-CALDESC:Events for peaceCENTER
BEGIN:VEVENT
DTSTART;TZID=America/Chicago:20170408T180000
DTEND;TZID=America/Chicago:20170408T220000
DTSTAMP:20260425T112823
CREATED:20170403T225535Z
LAST-MODIFIED:20170403T225535Z
UID:10133-1491674400-1491688800@www.sanantoniopeace.center
SUMMARY:Circle School International Food Festival
DESCRIPTION: \nA culinary adventure around the world\, celebrating Mother Earth and her people. We will have live music\, delicious food\, kids activities\, an auction and a raffle. Come join the fun and help us raise money for our school!\nTickets are available through co-op members\, not sold online. \n
URL:http://www.sanantoniopeace.center/event/circle-school-international-food-festival/
LOCATION:217 Pershing\, San Antonio\, TX\, 78209\, United States
CATEGORIES:Other
END:VEVENT
END:VCALENDAR