BEGIN:VCALENDAR
VERSION:2.0
PRODID:-//peaceCENTER - ECPv4.6.13//NONSGML v1.0//EN
CALSCALE:GREGORIAN
METHOD:PUBLISH
X-WR-CALNAME:peaceCENTER
X-ORIGINAL-URL:http://www.sanantoniopeace.center
X-WR-CALDESC:Events for peaceCENTER
BEGIN:VEVENT
DTSTART;TZID=America/Chicago:20161026T180000
DTEND;TZID=America/Chicago:20161026T200000
DTSTAMP:20260425T124943
CREATED:20161012T130226Z
LAST-MODIFIED:20161012T130226Z
UID:8841-1477504800-1477512000@www.sanantoniopeace.center
SUMMARY:Char Miller and Bob Rivard in Conversation: California Dreams\, Texas Schemes
DESCRIPTION: \nLeading environmental historian Char Miller looks below the surface of California’s ecological history to expose some of its less glittering conundrums in his new book “Not So Golden State: Sustainability vs. the California Dream”. Char Miller with be in conversation with Bob Rivard of the The Rivard Report on “California Dreams\, Texas Schemes: Two States in Environmental Crisis and What They Can Learn From Each Other.” Reception\, talk and signing. Free and open to the public. \n
URL:http://www.sanantoniopeace.center/event/char-miller-and-bob-rivard-in-conversation-california-dreams-texas-schemes/
LOCATION:106 Oakmont Ct.\, San Antonio\, TX\, United States
CATEGORIES:Other
END:VEVENT
END:VCALENDAR