BEGIN:VCALENDAR
VERSION:2.0
PRODID:-//peaceCENTER - ECPv4.6.13//NONSGML v1.0//EN
CALSCALE:GREGORIAN
METHOD:PUBLISH
X-WR-CALNAME:peaceCENTER
X-ORIGINAL-URL:http://www.sanantoniopeace.center
X-WR-CALDESC:Events for peaceCENTER
BEGIN:VEVENT
DTSTART;TZID=America/Chicago:20150123T193000
DTEND;TZID=America/Chicago:20150123T210000
DTSTAMP:20260425T134222
CREATED:20150123T161239Z
LAST-MODIFIED:20150123T161239Z
UID:2157-1422041400-1422046800@www.sanantoniopeace.center
SUMMARY:Chants for Peace - Shantikar Kirtan
DESCRIPTION: \n
URL:http://www.sanantoniopeace.center/event/chants-for-peace-shantikar-kirtan/
LOCATION:7052 N. Vandiver\, San Antonio\, TX\, 78209\, United States
END:VEVENT
END:VCALENDAR