BEGIN:VCALENDAR
VERSION:2.0
PRODID:-//peaceCENTER - ECPv4.6.13//NONSGML v1.0//EN
CALSCALE:GREGORIAN
METHOD:PUBLISH
X-WR-CALNAME:peaceCENTER
X-ORIGINAL-URL:http://www.sanantoniopeace.center
X-WR-CALDESC:Events for peaceCENTER
BEGIN:VEVENT
DTSTART;TZID=America/Chicago:20160208T180000
DTEND;TZID=America/Chicago:20160208T190000
DTSTAMP:20260425T123734
CREATED:20160120T223632Z
LAST-MODIFIED:20160120T223632Z
UID:6120-1454954400-1454958000@www.sanantoniopeace.center
SUMMARY:Centering Prayer and Discussion on Ecology
DESCRIPTION: \n
URL:http://www.sanantoniopeace.center/event/centering-prayer-and-discussion-on-ecology/
LOCATION:7735 Mockingbird Lane\, San Antonio\, TX\, 78229\, United States
CATEGORIES:Other
ORGANIZER;CN="University%20of%20the%20Incarnate%20Word%20Retreat%20Center":MAILTO:Alice Holden, CCVI, rcc@uiwtx.edu
END:VEVENT
END:VCALENDAR