BEGIN:VCALENDAR
VERSION:2.0
PRODID:-//peaceCENTER - ECPv4.6.13//NONSGML v1.0//EN
CALSCALE:GREGORIAN
METHOD:PUBLISH
X-WR-CALNAME:peaceCENTER
X-ORIGINAL-URL:http://www.sanantoniopeace.center
X-WR-CALDESC:Events for peaceCENTER
BEGIN:VEVENT
DTSTART;TZID=America/Chicago:20160831T190000
DTEND;TZID=America/Chicago:20160831T210000
DTSTAMP:20260425T154551
CREATED:20160715T160502Z
LAST-MODIFIED:20160715T160502Z
UID:7969-1472670000-1472677200@www.sanantoniopeace.center
SUMMARY:Celebrating Mercy From Paranoia to Metanoia w/ Rev. Ron Rolheiser\, OMI
DESCRIPTION:August 31\, Sept. 7 and 14\, 2016\, 7-9 PM \nRegistration: $60 is for all three lectures. \nTickets available online: https://celebratingmercy.eventgrid.com/ \nPope Francis has declared this a year of mercy. What is mercy? How do we live more merciful lives and how do we put a more merciful face on God and religion? How do we journey\, in both our humanity and our discipleship\, from paranoia to metanoia\, from having clenched fists to having open hands\, from being judgmental to being forgiving\, from living out of our wounds to living out of grace\, and from putting a petty face on God and religion to radiating the inexhaustible wellsprings of mercy?\n\nRev. Ron Rolheiser\, OMI\, is an internationally known speaker\, retreat leader\, community builder\, and author. He is president of Oblate School of Theology in San Antonio\, Texas. His most recent book is The Passion and the Cross. \nFor more information\, to pay by check or to register by phone\, call Brenda (210) 341-1366 x 212  \n  \n
URL:http://www.sanantoniopeace.center/event/celebrating-mercy-from-paranoia-to-metanoia-w-rev-ron-rolheiser-omi/
LOCATION:285 Oblate Dr.\, San Antonio\, TX\, 78216\, United States
CATEGORIES:Other
END:VEVENT
END:VCALENDAR