BEGIN:VCALENDAR
VERSION:2.0
PRODID:-//peaceCENTER - ECPv4.6.13//NONSGML v1.0//EN
CALSCALE:GREGORIAN
METHOD:PUBLISH
X-WR-CALNAME:peaceCENTER
X-ORIGINAL-URL:http://www.sanantoniopeace.center
X-WR-CALDESC:Events for peaceCENTER
BEGIN:VEVENT
DTSTART;TZID=America/Chicago:20160204T103000
DTEND;TZID=America/Chicago:20160204T104500
DTSTAMP:20260425T154039
CREATED:20160120T140420Z
LAST-MODIFIED:20160120T161758Z
UID:6090-1454581800-1454582700@www.sanantoniopeace.center
SUMMARY:Caring for Creation\, an Exploration of Climate Change and Faith from a Biblical Perspective
DESCRIPTION:Joe Cook holds a B.Sc in Natural Resources and the Environment (Univ. of MI)\, a M.Sc in Entomology with Minor in Soil Science (Univ. of MN)\, an MBA (UIW)\, a MTS (Oblate School of Theology\, and a M.A. in Theology (St. Mary’s University). He has worked worldwide in Natural Resources and the Environment with his last position being a Senior Environmental and Sustainability Scientist with the firm Consulting for Health\, Air\, Nature and a Greener Environment. \n
URL:http://www.sanantoniopeace.center/event/caring-for-creation-an-exploration-of-climate-change-and-faith-from-a-biblical-perspective/
LOCATION:4301 Broadway\, San Antonio\, TX\, 78209\, United States
CATEGORIES:Other
ORGANIZER;CN="University%20of%20the%20Incarnate%20Word":MAILTO:jlcapplevalleyca@gmail.com
END:VEVENT
END:VCALENDAR