BEGIN:VCALENDAR
VERSION:2.0
PRODID:-//peaceCENTER - ECPv4.6.13//NONSGML v1.0//EN
CALSCALE:GREGORIAN
METHOD:PUBLISH
X-WR-CALNAME:peaceCENTER
X-ORIGINAL-URL:http://www.sanantoniopeace.center
X-WR-CALDESC:Events for peaceCENTER
BEGIN:VEVENT
DTSTART;TZID=America/Chicago:20141219T180000
DTEND;TZID=America/Chicago:20141219T200000
DTSTAMP:20260425T172102
CREATED:20141217T065628Z
LAST-MODIFIED:20141218T015518Z
UID:1720-1419012000-1419019200@www.sanantoniopeace.center
SUMMARY:Candlelight Vigil for Peshwar Victims
DESCRIPTION:To honor the memory of the innocent souls lost at the hands of terrorism and the barbaric acts of the Taliban\, there will  be  a candlelight vigil at City Hall at 6pm. \n141 unarmed children\, teachers and other school officials were brutally killed today when militants attacked an army school in Peshawar\, Pakistan. \nShow your solidarity as we mourn the loss of so many innocent lives and pray for their families\, pray for today’s survivors and most importantly\, pray for humanity. \n*This is a peaceful display of peace and solidarity and not a protest or demonstration of any sort. Please be respectful. \n**Please invite your friends to this event and anyone who wants to come. This isn’t about being Pakistani or Muslim\, this is for anyone who opposes such acts of barbarism. \n***Please bring a candle for the whole family attending and some extras. \n  \n
URL:http://www.sanantoniopeace.center/event/candlelight-vigil-for-peshwar-victims/
LOCATION:100 Military Plaza\, San Antonio\, 78205
END:VEVENT
END:VCALENDAR