BEGIN:VCALENDAR
VERSION:2.0
PRODID:-//peaceCENTER - ECPv4.6.13//NONSGML v1.0//EN
CALSCALE:GREGORIAN
METHOD:PUBLISH
X-WR-CALNAME:peaceCENTER
X-ORIGINAL-URL:http://www.sanantoniopeace.center
X-WR-CALDESC:Events for peaceCENTER
BEGIN:VEVENT
DTSTART;TZID=America/Chicago:20160824T170000
DTEND;TZID=America/Chicago:20160824T203000
DTSTAMP:20260425T165625
CREATED:20160713T203106Z
LAST-MODIFIED:20160713T203106Z
UID:7926-1472058000-1472070600@www.sanantoniopeace.center
SUMMARY:Can We Talk About why Women's Pay is in the Red?
DESCRIPTION: \nCome join our host organization\, Texas Business Women of San Antonio as we commemorate the 1920 passage of the 19th Amendment to the Constitution\, granting women the right to vote. Observance of Women’s Equality Day also calls attention to women’s continuing efforts toward full equality to include Pay Equity. Take part in our Red Purse Project where you bring a new or gently used red purse filled with essentials that will be given to a woman in transition (due to domestic violence or homelessness). Extra door prize for each purse donated.\nShop til you drop- 5:00 – 8:30 pm\nNetworking- 5:30 pm\nDinner- 6:15 pm\nProgram with Melinda Gaul\, AAUW National Director – 7:00 pm \n
URL:http://www.sanantoniopeace.center/event/can-we-talk-about-why-womens-pay-is-in-the-red/
LOCATION:2100 US HWY 281 N\, San Antonio\, TX\, 78212\, United States
CATEGORIES:Other
END:VEVENT
END:VCALENDAR