BEGIN:VCALENDAR
VERSION:2.0
PRODID:-//peaceCENTER - ECPv4.6.13//NONSGML v1.0//EN
CALSCALE:GREGORIAN
METHOD:PUBLISH
X-WR-CALNAME:peaceCENTER
X-ORIGINAL-URL:http://www.sanantoniopeace.center
X-WR-CALDESC:Events for peaceCENTER
BEGIN:VEVENT
DTSTART;TZID=America/Chicago:20151231T190000
DTEND;TZID=America/Chicago:20151231T200000
DTSTAMP:20260425T123746
CREATED:20151219T172956Z
LAST-MODIFIED:20151219T172956Z
UID:5785-1451588400-1451592000@www.sanantoniopeace.center
SUMMARY:Burning Bowl Ceremony at Unity Church
DESCRIPTION:This ceremony provides an opportunity for participants to let go of thoughts\, feelings\, events\, and ideas from 2015 that no longer serve them. The ceremony begins with an invitation to review and reflect on our lives in 2015. After a time of meditation\, participants are given an opportunity to write down on paper what they desire to release. Each person in turn places the paper into a fire. Burning this paper is a symbolic act of letting go\, thus creating space for positive intentions for the coming year. \n
URL:http://www.sanantoniopeace.center/event/burning-bowl-ceremony-at-unity-church/
LOCATION:1723 W. Lawndale   \, San Antonio\, TX\, 78209\, United States
ORGANIZER;CN="Unity%20Church%20of%20San%20Antonio":MAILTO:communications@unityofsa.org 
END:VEVENT
END:VCALENDAR