BEGIN:VCALENDAR
VERSION:2.0
PRODID:-//peaceCENTER - ECPv4.6.13//NONSGML v1.0//EN
CALSCALE:GREGORIAN
METHOD:PUBLISH
X-WR-CALNAME:peaceCENTER
X-ORIGINAL-URL:http://www.sanantoniopeace.center
X-WR-CALDESC:Events for peaceCENTER
BEGIN:VEVENT
DTSTART;TZID=America/Chicago:20161024T123000
DTEND;TZID=America/Chicago:20161024T134500
DTSTAMP:20260425T102850
CREATED:20161019T133613Z
LAST-MODIFIED:20161019T133613Z
UID:8899-1477312200-1477316700@www.sanantoniopeace.center
SUMMARY:Breaking Down Borders: Lyrical Activism and Hip Hop Poetic @PaloAlto
DESCRIPTION:A plática and musical presentation by Dr. Marco Cervantes. \n
URL:http://www.sanantoniopeace.center/event/breaking-down-borders-lyrical-activism-and-hip-hop-poetic-paloalto/
LOCATION:1400 W. Villaret Blvd\, San Antonio\, TX\, 78224\, United States
CATEGORIES:Other
END:VEVENT
END:VCALENDAR