BEGIN:VCALENDAR
VERSION:2.0
PRODID:-//peaceCENTER - ECPv4.6.13//NONSGML v1.0//EN
CALSCALE:GREGORIAN
METHOD:PUBLISH
X-WR-CALNAME:peaceCENTER
X-ORIGINAL-URL:http://www.sanantoniopeace.center
X-WR-CALDESC:Events for peaceCENTER
BEGIN:VEVENT
DTSTART;TZID=America/Chicago:20160505T110000
DTEND;TZID=America/Chicago:20160505T130000
DTSTAMP:20260425T124903
CREATED:20160420T211506Z
LAST-MODIFIED:20160420T214031Z
UID:6819-1462446000-1462453200@www.sanantoniopeace.center
SUMMARY:Bookstore Luncheon:  Restorative Justice and Sister Helen Prejean @ St Mark's Episcopal
DESCRIPTION:\nThis year’s Bookstore Luncheon is featuring Sister Helen Prejean\, author of Dead Man Walking: An Eyewitness Account of the Death Penalty in the United States. Sister Prejean will offer two different talks. \nSister Helen Prejean\, Wednesday\, May 4\, 7.00pm\nJoin us for an evening lecture in the church\, co-sponsored by the St. Mark’s Bookstore. Author and lecturer Sister Helen Prejean offers a lecture entitled “Dead Man Walking – The Journey Continues.” Sister Helen Prejean\, C.S.J. has been instrumental in sparking a national dialogue on the death penalty and helping to shape the Catholic Church’s newly vigorous opposition to state executions. During this time\, she was asked to correspond with a death row inmate Patrick Sonnier at Angola. She agreed and became his spiritual adviser. After witnessing his execution\, she wrote a book about the experience. The result was Dead Man Walking. It became a movie\, an opera and a play for high schools and colleges. \nSister Helen Prejean and Bookstore Luncheon\, Thursday\, May 5\, starting at 11.00am\n Sister Helen Prejean will speak in the Nave of St. Mark’s Episcopal Church\, followed by a luncheon at noon in support of the St. Mark’s Bookstore. The lecture entitled “Encountering the Other: First Steps on a Journey of Shared Humanity” is free and all are welcome. Reservations for the luncheon can be made online at www.stmarks-sa.org \n\nor by calling 210-226-2426. Tickets are $30. \n\n
URL:http://www.sanantoniopeace.center/event/bookstore-luncheon-restorative-justice-and-sister-helen-prejean-st-marks-episcopal/
LOCATION:315 E. Pecan St.\, San Antonio\, TX\, 78205\, United States
CATEGORIES:Other
END:VEVENT
END:VCALENDAR