BEGIN:VCALENDAR
VERSION:2.0
PRODID:-//peaceCENTER - ECPv4.6.13//NONSGML v1.0//EN
CALSCALE:GREGORIAN
METHOD:PUBLISH
X-WR-CALNAME:peaceCENTER
X-ORIGINAL-URL:http://www.sanantoniopeace.center
X-WR-CALDESC:Events for peaceCENTER
BEGIN:VEVENT
DTSTART;TZID=America/Chicago:20150114T173000
DTEND;TZID=America/Chicago:20150114T200000
DTSTAMP:20260425T163330
CREATED:20141220T013647Z
LAST-MODIFIED:20141220T014255Z
UID:1756-1421256600-1421265600@www.sanantoniopeace.center
SUMMARY:Book Signing: The Train to Crystal City
DESCRIPTION:\n\n\n\n\n\nThe dramatic and never-before-told story of a secret FDR-approved American internment camp in Texas during World War II\, where thousands of families—many US citizens—were incarcerated.From 1942 to 1948\, trains delivered thousands of civilians from the United States and Latin America to Crystal City\, Texas\, a small desert town at the southern tip of Texas. The trains carried Japanese\, German\, Italian immigrants and their American-born children. The only family internment camp during World War II\, Crystal City was the center of a government prisoner exchange program called “quiet passage.” During the course of the war\, hundreds of prisoners in Crystal City\, including their American-born children\, were exchanged for other more important Americans—diplomats\, businessmen\, soldiers\, physicians\, and missionaries—behind enemy lines in Japan and Germany. \nFocusing her story on two American-born teenage girls who were interned\, author Jan Jarboe Russell uncovers the details of their years spent in the camp; the struggles of their fathers; their families’ subsequent journeys to war-devastated Germany and Japan; and their years-long attempt to survive and return to the United States\, transformed from incarcerated enemies to American loyalists. Their stories of day-to-day life at the camp\, from the ten-foot high security fence to the armed guards\, daily roll call\, and censored mail\, have never been told. \nCombining big-picture World War II history with a little-known event in American history that has long been kept quiet\, The Train to Crystal City reveals the war-time hysteria against the Japanese and Germans in America\, the secrets of FDR’s tactics to rescue high-profile POWs in Germany and Japan\, and how the definition of American citizenship changed under the pressure of war. \n\n\n\n\n\n
URL:http://www.sanantoniopeace.center/event/book-signing-the-train-to-crystal-city/
LOCATION:300 Augusta\, San Antonio\, TX\, 78205\, United States
END:VEVENT
END:VCALENDAR