BEGIN:VCALENDAR
VERSION:2.0
PRODID:-//peaceCENTER - ECPv4.6.13//NONSGML v1.0//EN
CALSCALE:GREGORIAN
METHOD:PUBLISH
X-WR-CALNAME:peaceCENTER
X-ORIGINAL-URL:http://www.sanantoniopeace.center
X-WR-CALDESC:Events for peaceCENTER
BEGIN:VEVENT
DTSTART;TZID=America/Chicago:20170518T190000
DTEND;TZID=America/Chicago:20170518T210000
DTSTAMP:20260425T124013
CREATED:20170503T215926Z
LAST-MODIFIED:20170503T215926Z
UID:10288-1495134000-1495141200@www.sanantoniopeace.center
SUMMARY:Book Signing: "Albert A. Peña Jr.\, Dean of Chicano Politics\," by  Jose Angel Gutiérrez
DESCRIPTION:Special Guests:\nAlbert A. Peña Jr. family members \nThe event will honor Albert A. Peña Jr.\, Legendary Leader in Chicano Politics\nFEATURED SPEAKER: Jose Angel Gutiérrez\nCOMMENTS AND TESTIMONIALS:\nGabriel Quintero Velásquez\, President\, Avenida Guadalupe Association\nIgnacio A\, Pérez\, Community Activist\nMario Compean\, President/CEO\, Academia América \nOrder your prepaid copy of the book Online now and pick it up at the event\, Dr. Gutierrez will autograph it there. Shipping is not available. A portion of the book sale proceeds will benefit Academia America courtesy of Dr. Gutierrez \n
URL:http://www.sanantoniopeace.center/event/book-signing-albert-a-pena-jr-dean-of-chicano-politics-by-jose-angel-gutierrez/
LOCATION:1306 Guadalupe\, San Antonio\, TX\, 78207\, United States
END:VEVENT
END:VCALENDAR