BEGIN:VCALENDAR
VERSION:2.0
PRODID:-//peaceCENTER - ECPv4.6.13//NONSGML v1.0//EN
CALSCALE:GREGORIAN
METHOD:PUBLISH
X-WR-CALNAME:peaceCENTER
X-ORIGINAL-URL:http://www.sanantoniopeace.center
X-WR-CALDESC:Events for peaceCENTER
BEGIN:VEVENT
DTSTART;TZID=America/Chicago:20150221T190000
DTEND;TZID=America/Chicago:20150221T210000
DTSTAMP:20260425T134541
CREATED:20150211T042509Z
LAST-MODIFIED:20150211T042509Z
UID:2380-1424545200-1424552400@www.sanantoniopeace.center
SUMMARY:BOOK RELEASE: Activism\, Alliance Building\, and the Esperanza Peace and Justice Center by Sara DeTurk
DESCRIPTION: \nThe Esperanza Peace and Justice Center is please to invite you to the book premiere and plática for University of Texas San Antonio professor Sara DeTurk’s new book\, Activism\, Alliance Building and the Esperanza Peace and Justice Center on Saturday\, February 21\, 2015 at 7 pm. This free event will behosted at the Esperanza Peace and Justice Center located at 922 San Pedro Avenue. \nPresenters include Antonia Castañeda\, Maria Berriozabal\, and Gary Houston as well as the author\, Sara DeTurk. The event will also present various artistic performances that pay tribute to the unique work of the organization through music and spoken word. A short reception and Q&A will follow the presentation with book singing\nafterwards. \nBook Description:\nThe longevity of the Esperanza Peace and Justice Center in San Antonio\, Texas\, suggests that it is possible for a social change organization to simultaneously address racism\, classism\, sexism\, homophobia\, imperialism\, environmental justice\, and peace—and to succeed. This\nethnographic study presents an instructive case of the importance and challenges of uncompromisingly confronting injustice in all of its manifestations. Through building and maintaining alliances\, deploying language strategically\, and using artistic expression as a central organizing mechanism\, The Esperanza Peace and Justice Center demonstrates the power of multi-issue organization in its intersectional/coalitional consciousness. \n“a powerfully reflexive exploration of how the arts and socio-cultural aesthetics are deeply rooted in the every day interaction rituals we often fail to consider when studying activism and politics.” – Sarah Amira de la Garza\, Arizona State \nAbout the Author – Sara DeTurk\nAssociate professor of communication at University of Texas at San Antonio. Dr. Sara DeTurk received her B.A. in\nPsychology from the University of Virginia and her M.Ed. in International Education from the University of Massachusetts. She received her Ph.D. in Communication from Arizona State University in 2004\, with a focus on Intercultural Communication. Her research is qualitative in nature and addresses social justice activism\, intergroup alliances\, and the role of communication in shaping ideologies about identity and difference. \n
URL:http://www.sanantoniopeace.center/event/book-release-activism-alliance-building-and-the-esperanza-peace-and-justice-center-by-sara-deturk/
LOCATION:922 San Pedro\, San Antonio\, TX\, 78212\, United States
END:VEVENT
END:VCALENDAR