BEGIN:VCALENDAR
VERSION:2.0
PRODID:-//peaceCENTER - ECPv4.6.13//NONSGML v1.0//EN
CALSCALE:GREGORIAN
METHOD:PUBLISH
X-WR-CALNAME:peaceCENTER
X-ORIGINAL-URL:http://www.sanantoniopeace.center
X-WR-CALDESC:Events for peaceCENTER
BEGIN:VEVENT
DTSTART;TZID=America/Chicago:20161121T170000
DTEND;TZID=America/Chicago:20161121T180000
DTSTAMP:20260425T121727
CREATED:20161106T182230Z
LAST-MODIFIED:20161106T182230Z
UID:8996-1479747600-1479751200@www.sanantoniopeace.center
SUMMARY:"Bodies and the Bible: The Legacy of Racism and Colonialism in Western Christian Perspectives on Israel and Palestine"
DESCRIPTION: \n“Bodies and the Bible: The Legacy of Racism and Colonialism in Western Christian Perspectives on Israel and Palestine” is a lecture on the role of religion and racism in the Israel/Palestine conflict. The speaker is Dr. Janneke Stegeman\, a scholar in Old Testament from Amsterdam. She works as a theologian at De Nieuwe Liefde (The New Love)\, a center for debate and encounters on religion\, poetry and society in Amsterdam. In 2014 she finished her dissertation on the role of conflict in the book of Jeremiah\, including its interpretations in present day Israel and Palestine. Stegeman was selected as the Dutch Theologian of the Year for 2016/2017. \n
URL:http://www.sanantoniopeace.center/event/bodies-and-the-bible-the-legacy-of-racism-and-colonialism-in-western-christian-perspectives-on-israel-and-palestine/
LOCATION:One Trinity Place\, San Antonio\, TX\, 78212\, United States
CATEGORIES:Other
END:VEVENT
END:VCALENDAR