BEGIN:VCALENDAR
VERSION:2.0
PRODID:-//peaceCENTER - ECPv4.6.13//NONSGML v1.0//EN
CALSCALE:GREGORIAN
METHOD:PUBLISH
X-WR-CALNAME:peaceCENTER
X-ORIGINAL-URL:http://www.sanantoniopeace.center
X-WR-CALDESC:Events for peaceCENTER
BEGIN:VEVENT
DTSTART;TZID=America/Chicago:20150125T150000
DTEND;TZID=America/Chicago:20150125T170000
DTSTAMP:20260425T163149
CREATED:20141021T121036Z
LAST-MODIFIED:20150123T232417Z
UID:538-1422198000-1422205200@www.sanantoniopeace.center
SUMMARY:Blessing of the Peacemakers
DESCRIPTION:Because of the possibility of wet & cold weather\, the Blessing of the Peacemakers has been moved to the Whitley Center at the Oblate School of Theology.  \nPeace is Our Birthright\nOn the peaceCENTER’s 20th anniversary\, as we explore how peace is passed down through the generations\, we encourage you to bring a young person to the ceremony to celebrate their birthright — of PEACE! \nIntroduction of the 2015 San Antonio Peace Laureate. \nMusic by the San Antonio Vocal Arts Ensemble (SAVAE) \nInstead of our traditional peace potluck\, The Blessing of the Peacemakers ceremony will be followed by a “milk and cookies” reception at the peaceCENTER’s new home\, the Rock House. \nAs always\, the Blessing of the Peacemakers is free\, but we would be honored if you would consider making a contribution to ensure the continuation of the peaceCENTER’s work. \nLost? Here’s a map of the Oblate campus. \n  \n  \n
URL:http://www.sanantoniopeace.center/event/blessing-of-the-peacemakers/
END:VEVENT
END:VCALENDAR