BEGIN:VCALENDAR
VERSION:2.0
PRODID:-//peaceCENTER - ECPv4.6.13//NONSGML v1.0//EN
CALSCALE:GREGORIAN
METHOD:PUBLISH
X-WR-CALNAME:peaceCENTER
X-ORIGINAL-URL:http://www.sanantoniopeace.center
X-WR-CALDESC:Events for peaceCENTER
BEGIN:VEVENT
DTSTART;TZID=America/Chicago:20160221T150000
DTEND;TZID=America/Chicago:20160221T170000
DTSTAMP:20260425T104148
CREATED:20160211T035750Z
LAST-MODIFIED:20160211T035826Z
UID:6415-1456066800-1456074000@www.sanantoniopeace.center
SUMMARY:Black History in San Antonio @UTSA
DESCRIPTION:UTSA’s African-American Studies Program and Consortium for Social Transformation Presents: “Black History in San Antonio: The Past\, Present\, and Future.” Join us for a dynamic program featuring thought-provoking discussion panels of community leaders\, UTSA professors\, and UTSA students. This free\, all-ages educational event will present little-known Black History facts\, highlight important figures in national and local Black History\, and facilitate discussions on facing the challenges in Black America today. Moderated by Dr. Ron Kelley\, national speaker and CEO of San Antonio and Austin-based education company NSI\, this inaugural program will spark an annual tradition of presenting top-notch Black History education in San Antonio. The event will be held on the UTSA 1604 Campus in the Bexar Room of the HEB University Center\, HUC 1.102. \n
URL:http://www.sanantoniopeace.center/event/black-history-in-san-antonio-utsa/
LOCATION:1 UTSA Circle\, San Antonio\, TX\, 78249\, United States
CATEGORIES:Other
END:VEVENT
END:VCALENDAR