BEGIN:VCALENDAR
VERSION:2.0
PRODID:-//peaceCENTER - ECPv4.6.13//NONSGML v1.0//EN
CALSCALE:GREGORIAN
METHOD:PUBLISH
X-WR-CALNAME:peaceCENTER
X-ORIGINAL-URL:http://www.sanantoniopeace.center
X-WR-CALDESC:Events for peaceCENTER
BEGIN:VEVENT
DTSTART;TZID=America/Chicago:20141128T080000
DTEND;TZID=America/Chicago:20141128T090000
DTSTAMP:20260425T145233
CREATED:20141127T135942Z
LAST-MODIFIED:20141127T135942Z
UID:1401-1417161600-1417165200@www.sanantoniopeace.center
SUMMARY:Black Friday Demonstration at Wal-Mart
DESCRIPTION: \nIf you would rather make a political statement than save a few dollars on Black Friday\, come join other activists at a demonstration at Walmart this Fri 11/28 from 8am-9am. \nBring a sign that expresses your opinion about Walmart’s treatment of employees\, wages\, training\, benefits\, take your pick. We will also be supporting a new bill being introduced by Representative Trey Martinez-Fisher to increase Texas’ minimum wage. \nWe will meet at the O’Reilly Auto Parts at 8002 Bandera Rd\, next to Walmart Supercenter 5146. \n
URL:http://www.sanantoniopeace.center/event/black-friday-demonstration-at-wal-mart/
LOCATION: 8002 Bandera Rd\, San Antonio\, TX\, 78250\, United States
END:VEVENT
END:VCALENDAR