BEGIN:VCALENDAR
VERSION:2.0
PRODID:-//peaceCENTER - ECPv4.6.13//NONSGML v1.0//EN
CALSCALE:GREGORIAN
METHOD:PUBLISH
X-WR-CALNAME:peaceCENTER
X-ORIGINAL-URL:http://www.sanantoniopeace.center
X-WR-CALDESC:Events for peaceCENTER
BEGIN:VEVENT
DTSTART;TZID=America/Chicago:20160812T080000
DTEND;TZID=America/Chicago:20160812T140000
DTSTAMP:20260425T182000
CREATED:20160719T035443Z
LAST-MODIFIED:20160719T035443Z
UID:8028-1470988800-1471010400@www.sanantoniopeace.center
SUMMARY:Bexar County Behavioral Health and Wellness Conference
DESCRIPTION: \nThe Center for Health Care Services (CHCS) is proud to present the 16th Annual Bexar County Behavioral Health and Wellness Conference on August 12-13\, 2016. Conference is FREE and open to the public. \nFormerly known as the Bexar County Consumer and Family Support Conference\, this year’s conference theme “On the Road to Recovery” features consumers\, family\, youth\, veterans\, and jail diversion/crisis intervention workshops.  For more details\, see the Schedule of Events below. \nAdditionally\, all conference attendees are invited to attend a FREE Health and Wellness Resource Fair. \nAudience: Conference is FREE and open to all Bexar County residents interested in learning about mental illness\, substance use disorders\, general health and wellness\, and local resources for children and adults. \nSchedule of Events: Registration begins both days at 7:30 a.m. Registrants may choose to attend both days or single days. \nFull schedule is available online \n
URL:http://www.sanantoniopeace.center/event/bexar-county-behavioral-health-and-wellness-conference/
LOCATION:111 E. Pecan\, San Antonio\, TX\, 78205\, United States
CATEGORIES:Other
END:VEVENT
END:VCALENDAR