BEGIN:VCALENDAR
VERSION:2.0
PRODID:-//peaceCENTER - ECPv4.6.13//NONSGML v1.0//EN
CALSCALE:GREGORIAN
METHOD:PUBLISH
X-WR-CALNAME:peaceCENTER
X-ORIGINAL-URL:http://www.sanantoniopeace.center
X-WR-CALDESC:Events for peaceCENTER
BEGIN:VEVENT
DTSTART;TZID=America/Chicago:20160514T100000
DTEND;TZID=America/Chicago:20160514T140000
DTSTAMP:20260425T151655
CREATED:20160424T230309Z
LAST-MODIFIED:20160424T230309Z
UID:6838-1463220000-1463234400@www.sanantoniopeace.center
SUMMARY:Bexar Bird Day
DESCRIPTION:Celebrate International Migratory Bird Day at Mitchell Lake Audubon Center! The day will be filled with family-fun bird activities\, games\, and presentations. We’ll also have information on the Golden-cheeked Warbler\, an endangered species that lives and breeds ONLY here in Central TX\, including Bexar County. \nAdmission is FREE! \n
URL:http://www.sanantoniopeace.center/event/bexar-bird-day/
LOCATION:10750 Pleasanton Rd.\, San Antonio\, TX\, 78221\, United States
CATEGORIES:Other
END:VEVENT
END:VCALENDAR