BEGIN:VCALENDAR
VERSION:2.0
PRODID:-//peaceCENTER - ECPv4.6.13//NONSGML v1.0//EN
CALSCALE:GREGORIAN
METHOD:PUBLISH
X-WR-CALNAME:peaceCENTER
X-ORIGINAL-URL:http://www.sanantoniopeace.center
X-WR-CALDESC:Events for peaceCENTER
BEGIN:VEVENT
DTSTART;TZID=America/Chicago:20141122T180000
DTEND;TZID=America/Chicago:20141122T210000
DTSTAMP:20260425T184519
CREATED:20141115T165943Z
LAST-MODIFIED:20141115T165943Z
UID:1012-1416679200-1416690000@www.sanantoniopeace.center
SUMMARY:Backyard Film Festival: Celebrate Life!
DESCRIPTION: \n
URL:http://www.sanantoniopeace.center/event/backyard-film-festival-celebrate-life/
LOCATION:107 Devonshire\, San Antonio\, TX\, 78209\, United States
END:VEVENT
END:VCALENDAR