BEGIN:VCALENDAR
VERSION:2.0
PRODID:-//peaceCENTER - ECPv4.6.13//NONSGML v1.0//EN
CALSCALE:GREGORIAN
METHOD:PUBLISH
X-WR-CALNAME:peaceCENTER
X-ORIGINAL-URL:http://www.sanantoniopeace.center
X-WR-CALDESC:Events for peaceCENTER
BEGIN:VEVENT
DTSTART;TZID=America/Chicago:20150801T100000
DTEND;TZID=America/Chicago:20150801T130000
DTSTAMP:20260425T030835
CREATED:20150728T215704Z
LAST-MODIFIED:20150728T215704Z
UID:3766-1438423200-1438434000@www.sanantoniopeace.center
SUMMARY:Back-to-School  Women’s Only Self-Defense Seminar
DESCRIPTION: (check-in at 9:15am) \n• Seminar will address sexual assault/attempted rape and parking lot attacks. \n• Open to females 12+ up. \n• Fee $25 \n• Make checks payable to: 911 Self Defense Inc. \n• All proceeds benefit The Rape Crisis Center \nPre-register at: http://bit.ly/1GZ2AYO \n
URL:http://www.sanantoniopeace.center/event/back-to-school-womens-only-self-defense-seminar/
LOCATION:100 Crossroads Blvd\, San Antonio\, TX\, 78201\, United States
END:VEVENT
END:VCALENDAR