BEGIN:VCALENDAR
VERSION:2.0
PRODID:-//peaceCENTER - ECPv4.6.13//NONSGML v1.0//EN
CALSCALE:GREGORIAN
METHOD:PUBLISH
X-WR-CALNAME:peaceCENTER
X-ORIGINAL-URL:http://www.sanantoniopeace.center
X-WR-CALDESC:Events for peaceCENTER
BEGIN:VEVENT
DTSTART;TZID=America/Chicago:20150717T190000
DTEND;TZID=America/Chicago:20150717T200000
DTSTAMP:20260424T212427
CREATED:20150713T030950Z
LAST-MODIFIED:20150713T030950Z
UID:3702-1437159600-1437163200@www.sanantoniopeace.center
SUMMARY:Author Reading: Mat Johnson @ The Carver
DESCRIPTION: \nAuthor Mat Johnson will give a free public reading at 7 p.m. Friday at the Carver Community Cultural Center. From the Express News: \n“Mat Johnson’s new novel\, “Loving Day\,” takes its title from an unofficial holiday\, one his narrator likens to “Mulatto Christmas.” It’s the observance of the Supreme Court ruling in Loving v. Virginia\, which in 1967 decriminalized interracial marriage in America.  Johnson\, whose previous novels include the excellent “Pym” (2011)\, is himself the product of such a marriage — his mother is black\, his father not just white but Irish white — and the politics of his own racial mix is a topic he’s written about with discernment and a rumbling wit.” [read rest of E-N article here] \n
URL:http://www.sanantoniopeace.center/event/author-reading-mat-johnson-the-carver/
LOCATION:226 N. Hackberry\, San Antonio\, TX\, 78202\, United States
END:VEVENT
END:VCALENDAR