BEGIN:VCALENDAR
VERSION:2.0
PRODID:-//peaceCENTER - ECPv4.6.13//NONSGML v1.0//EN
CALSCALE:GREGORIAN
METHOD:PUBLISH
X-WR-CALNAME:peaceCENTER
X-ORIGINAL-URL:http://www.sanantoniopeace.center
X-WR-CALDESC:Events for peaceCENTER
BEGIN:VEVENT
DTSTART;TZID=America/Chicago:20151117T180000
DTEND;TZID=America/Chicago:20151117T200000
DTSTAMP:20260425T131547
CREATED:20151108T205641Z
LAST-MODIFIED:20151108T205641Z
UID:5005-1447783200-1447790400@www.sanantoniopeace.center
SUMMARY:Author Reading: Carla Trujillo -- "Faith and Fat Chances"
DESCRIPTION: \n
URL:http://www.sanantoniopeace.center/event/author-reading-carla-trujillo-faith-and-fat-chances/
LOCATION:600 Soledad\, San Antonio\, TX\, 78205\, United States
END:VEVENT
END:VCALENDAR