BEGIN:VCALENDAR
VERSION:2.0
PRODID:-//peaceCENTER - ECPv4.6.13//NONSGML v1.0//EN
CALSCALE:GREGORIAN
METHOD:PUBLISH
X-WR-CALNAME:peaceCENTER
X-ORIGINAL-URL:http://www.sanantoniopeace.center
X-WR-CALDESC:Events for peaceCENTER
BEGIN:VEVENT
DTSTART;TZID=America/Chicago:20151114T190000
DTEND;TZID=America/Chicago:20151114T210000
DTSTAMP:20260425T124138
CREATED:20151028T163718Z
LAST-MODIFIED:20151028T163718Z
UID:4708-1447527600-1447534800@www.sanantoniopeace.center
SUMMARY:Art Opening: 21 Migratory Dreams / 21 Sueños Migratorios
DESCRIPTION: \n
URL:http://www.sanantoniopeace.center/event/art-opening-21-migratory-dreams-21-suenos-migratorios/
LOCATION:3412 S. Flores\, San Antonio\, TX\, 78204\, United States
END:VEVENT
END:VCALENDAR