BEGIN:VCALENDAR
VERSION:2.0
PRODID:-//peaceCENTER - ECPv4.6.13//NONSGML v1.0//EN
CALSCALE:GREGORIAN
METHOD:PUBLISH
X-WR-CALNAME:peaceCENTER
X-ORIGINAL-URL:http://www.sanantoniopeace.center
X-WR-CALDESC:Events for peaceCENTER
BEGIN:VEVENT
DTSTART;TZID=America/Chicago:20160506T140000
DTEND;TZID=America/Chicago:20160506T210000
DTSTAMP:20260425T141114
CREATED:20160422T165350Z
LAST-MODIFIED:20160422T165350Z
UID:6829-1462543200-1462568400@www.sanantoniopeace.center
SUMMARY:Art in the Park: 1st Friday Art Therapy for Children
DESCRIPTION: \nJoin us at this family event to learn about art therapy in an interactive fun event! Come and make art and meet art therapists and creative counselors here in San Antonio. \nTe invitamos a este evento familiar\, para conocer la terapia de arte de una forma divertida e interactiva! Ven y crea arte y conoce terapeutas de arte y terapeutas creativos de San Antonio.\n \n
URL:http://www.sanantoniopeace.center/event/art-in-the-park-1st-friday-art-therapy-for-children/
LOCATION:434 S. Alamo\, San Antonio\, TX\, United States
CATEGORIES:Other
END:VEVENT
END:VCALENDAR