BEGIN:VCALENDAR
VERSION:2.0
PRODID:-//peaceCENTER - ECPv4.6.13//NONSGML v1.0//EN
CALSCALE:GREGORIAN
METHOD:PUBLISH
X-WR-CALNAME:peaceCENTER
X-ORIGINAL-URL:http://www.sanantoniopeace.center
X-WR-CALDESC:Events for peaceCENTER
BEGIN:VEVENT
DTSTART;TZID=America/Chicago:20171014T080000
DTEND;TZID=America/Chicago:20171014T110000
DTSTAMP:20260425T112508
CREATED:20171011T175126Z
LAST-MODIFIED:20171011T175126Z
UID:11354-1507968000-1507978800@www.sanantoniopeace.center
SUMMARY:Anti-slavery Walk for Freedom
DESCRIPTION: \nOn October 14\, a global community of abolitionists will rally together to shine a global spotlight on human trafficking.  Walk For Freedom 2016 was the first walk we hosted in San Antonio and along with the world\, there were over 300 walks in 40 countries around the world.  This year we’re doing it again. \n We’d like to invite you to join us again on October 14\, 2017\, at Milam Park as we walk for all the victims that are trapped in modern-day slavery.  Together\, we will shine a light on this injustice and be a voice for the voiceless. We dare you to step out in faith and believe that together we can make a difference in San Antonio! \n Here’s what you have to do:  Meet us at Milam Park on Saturday at 8 am. You can register on site for FREE!! \nDetails of the route and additional information can be found on our website at www.a21freedomchasers.org . \n \nSee you at Walk For Freedom 2017! \n
URL:http://www.sanantoniopeace.center/event/anti-slavery-walk-for-freedom/
LOCATION:500 W. Commerce\, San Antonio\, TX\, United States
CATEGORIES:Other
END:VEVENT
END:VCALENDAR