BEGIN:VCALENDAR
VERSION:2.0
PRODID:-//peaceCENTER - ECPv4.6.13//NONSGML v1.0//EN
CALSCALE:GREGORIAN
METHOD:PUBLISH
X-WR-CALNAME:peaceCENTER
X-ORIGINAL-URL:http://www.sanantoniopeace.center
X-WR-CALDESC:Events for peaceCENTER
BEGIN:VEVENT
DTSTART;TZID=America/Chicago:20170116T100000
DTEND;TZID=America/Chicago:20170116T150000
DTSTAMP:20260425T042420
CREATED:20170116T135737Z
LAST-MODIFIED:20170116T135737Z
UID:9554-1484560800-1484578800@www.sanantoniopeace.center
SUMMARY:Annual Martin Luther King March
DESCRIPTION: \nThe annual Martin Luther King\, Jr. March\, is scheduled for Monday\, January 16\, 2017. The march will begin at 10:00 a.m. at the MLK Academy located at 1801 MLK Drive and end at Pittman-Sullivan Park\, 1101 Iowa (march route and info). \n
URL:http://www.sanantoniopeace.center/event/annual-martin-luther-king-march/
LOCATION:3501 Martin Luther King Drive\, San Antonio\, TX\, United States
CATEGORIES:Other
END:VEVENT
END:VCALENDAR