BEGIN:VCALENDAR
VERSION:2.0
PRODID:-//peaceCENTER - ECPv4.6.13//NONSGML v1.0//EN
CALSCALE:GREGORIAN
METHOD:PUBLISH
X-WR-CALNAME:peaceCENTER
X-ORIGINAL-URL:http://www.sanantoniopeace.center
X-WR-CALDESC:Events for peaceCENTER
BEGIN:VEVENT
DTSTART;TZID=America/Chicago:20150304T193000
DTEND;TZID=America/Chicago:20150304T210000
DTSTAMP:20260425T145234
CREATED:20150208T180427Z
LAST-MODIFIED:20150208T180427Z
UID:2347-1425497400-1425502800@www.sanantoniopeace.center
SUMMARY:An Evening with Poet Gary Snyder @ Trinity
DESCRIPTION:An evening with beloved poet Gary Snyder\, in conversation with South African writer and scholar Julia Martin\, followed by a poetry reading and book signing. The evening is based on their new Trinity University Press book NOBODY HOME: WRITING\, BUDDHISM\, AND LIVING IN PLACES\, a collection of interviews and letters between the two spanning three decades discussing everything from ecological and gender politics\, to issues of community\, bioregion\, and place\, to Snyder’s priorities for writing and core musings like suffering\, old age\, sickness\, and death. Free and open to the public. \n
URL:http://www.sanantoniopeace.center/event/an-evening-with-poet-gary-snyder-trinity/
LOCATION:106 Oakmont Court\, San Antonio\, TX\, 78212\, United States
END:VEVENT
END:VCALENDAR