BEGIN:VCALENDAR
VERSION:2.0
PRODID:-//peaceCENTER - ECPv4.6.13//NONSGML v1.0//EN
CALSCALE:GREGORIAN
METHOD:PUBLISH
X-WR-CALNAME:peaceCENTER
X-ORIGINAL-URL:http://www.sanantoniopeace.center
X-WR-CALDESC:Events for peaceCENTER
BEGIN:VEVENT
DTSTART;TZID=America/Chicago:20170707T210000
DTEND;TZID=America/Chicago:20170707T230000
DTSTAMP:20260425T000805
CREATED:20170629T183524Z
LAST-MODIFIED:20170629T183524Z
UID:10609-1499461200-1499468400@www.sanantoniopeace.center
SUMMARY:An Evening with Dr. Jonathan Brown @MCECC
DESCRIPTION: \nJonathan Brown is the Alwaleed bin Talal Chair of Islamic Civilization in the School of Foreign Service at Georgetown University\, and he is the Director of the Alwaleed bin Talal Center for Muslim Christian Understanding. He received his BA in History from Georgetown University in 2000 and his doctorate in Near Eastern Languages and Civilizations from the University of Chicago in 2006. Dr. Brown has studied and conducted research in countries such as Egypt\, Syria\, Turkey\, Morocco\, Saudi Arabia\, Yemen\, South Africa\, India\, Indonesia and Iran. \nHis book publications include The Canonization of al-Bukhari and Muslim: The Formation and Function of the Sunni Hadith Canon (Brill\, 2007)\, Hadith: Muhammad’s Legacy in the Medieval and Modern World (Oneworld\, 2009) and Muhammad: A Very Short Introduction (Oxford University Press\, 2011)\, which was selected for the National Endowment for the Humanities’ Bridging Cultures Muslim Journeys Bookshelf. \nHis most recent book\, Misquoting Muhammad: The Challenges and Choices of Interpreting the Prophet’s Legacy (Oneworld\, 2014)\, was named one of the top books on religion in 2014 by the Independent. He has published articles in the fields of Hadith\, Islamic law\, Salafism\, Sufism\, Arabic lexical theory and Pre-Islamic poetry and is the editor in chief of the Oxford Encyclopedia of Islam and Law. Dr. Brown’s current research interests include Islamic legal reform and a translation of Sahih al-Bukhari. \n
URL:http://www.sanantoniopeace.center/event/an-evening-with-dr-jonathan-brown-mcecc/
LOCATION:5281 Casa Bella\, San Antonio\, TX\, 78249\, United States
CATEGORIES:Other
END:VEVENT
END:VCALENDAR