BEGIN:VCALENDAR
VERSION:2.0
PRODID:-//peaceCENTER - ECPv4.6.13//NONSGML v1.0//EN
CALSCALE:GREGORIAN
METHOD:PUBLISH
X-WR-CALNAME:peaceCENTER
X-ORIGINAL-URL:http://www.sanantoniopeace.center
X-WR-CALDESC:Events for peaceCENTER
BEGIN:VEVENT
DTSTART;TZID=America/Chicago:20150117T193000
DTEND;TZID=America/Chicago:20150117T220000
DTSTAMP:20260425T145125
CREATED:20141213T080831Z
LAST-MODIFIED:20141213T080831Z
UID:1664-1421523000-1421532000@www.sanantoniopeace.center
SUMMARY:An Evening With David Whyte @ UTSA
DESCRIPTION: \nThe Business Building is marked BB at grid location L4 on the campus map. \n
URL:http://www.sanantoniopeace.center/event/an-evening-with-david-whyte-utsa/
LOCATION:1 UTSA Circle\, San Antonio\, TX\, 78249\, United States
END:VEVENT
END:VCALENDAR