BEGIN:VCALENDAR
VERSION:2.0
PRODID:-//peaceCENTER - ECPv4.6.13//NONSGML v1.0//EN
CALSCALE:GREGORIAN
METHOD:PUBLISH
X-WR-CALNAME:peaceCENTER
X-ORIGINAL-URL:http://www.sanantoniopeace.center
X-WR-CALDESC:Events for peaceCENTER
BEGIN:VEVENT
DTSTART;TZID=America/Chicago:20171019T180000
DTEND;TZID=America/Chicago:20171019T200000
DTSTAMP:20260425T112659
CREATED:20171005T125521Z
LAST-MODIFIED:20171005T125521Z
UID:11277-1508436000-1508443200@www.sanantoniopeace.center
SUMMARY:An Autopsy of Capitalism's Triumph over Democracy
DESCRIPTION:\nHave Americans given up on democracy? With mass protests over social injustices and racial inequality\, people wonder if public policies only benefit those in power. Dolgon will talk about how the post-Vietnam War era\, political reality TV\, and debates over Black Lives Matter have influenced the political culture in our society today. Join us for this free event at 6 p.m. on Thursday\, Oct. 19 at the UTSA Downtown Campus in the Aula Canaria Lecture Hall to learn more from Professor of Sociology Dr. Corey Dolgon as he engages the audience with a talk about his new book “Kill It to Save It: An Autopsy of Capitalism’s Triumph Over Democracy.” Dr. Dolgon is the inaugural director of the Office of Community-Based Learning at Stonehill College in Eaton\, Massachusetts. \n
URL:http://www.sanantoniopeace.center/event/an-autopsy-of-capitalisms-triumph-over-democracy/
LOCATION:501 W. César E. Chávez Blvd.\, San Antonio\, TX\, 78207\, United States
CATEGORIES:Other
END:VEVENT
END:VCALENDAR