BEGIN:VCALENDAR
VERSION:2.0
PRODID:-//peaceCENTER - ECPv4.6.13//NONSGML v1.0//EN
CALSCALE:GREGORIAN
METHOD:PUBLISH
X-WR-CALNAME:peaceCENTER
X-ORIGINAL-URL:http://www.sanantoniopeace.center
X-WR-CALDESC:Events for peaceCENTER
BEGIN:VEVENT
DTSTART;TZID=America/Chicago:20141007T193000
DTEND;TZID=America/Chicago:20141007T210000
DTSTAMP:20260425T201555
CREATED:20141007T165327Z
LAST-MODIFIED:20141007T165327Z
UID:8-1412710200-1412715600@www.sanantoniopeace.center
SUMMARY:Amy Goodman @ Trinity
DESCRIPTION:Amy Goodman\, an award-winning journalist and the host of the program Democracy Now!\, will be the guest speaker for Trinity University’s Maverick Lecture Series.She will speak on “Independent Media in a Time of War and Elections.” \n
URL:http://www.sanantoniopeace.center/event/amy-goodman-trinity/
LOCATION:Trinity University
END:VEVENT
END:VCALENDAR