BEGIN:VCALENDAR
VERSION:2.0
PRODID:-//peaceCENTER - ECPv4.6.13//NONSGML v1.0//EN
CALSCALE:GREGORIAN
METHOD:PUBLISH
X-WR-CALNAME:peaceCENTER
X-ORIGINAL-URL:http://www.sanantoniopeace.center
X-WR-CALDESC:Events for peaceCENTER
BEGIN:VEVENT
DTSTART;TZID=America/Chicago:20160714T183000
DTEND;TZID=America/Chicago:20160714T203000
DTSTAMP:20260425T205347
CREATED:20160711T002458Z
LAST-MODIFIED:20160714T165523Z
UID:7845-1468521000-1468528200@www.sanantoniopeace.center
SUMMARY:Allies Against Police Brutality Discussion
DESCRIPTION: \nNo Justice No peace. We have to be part of the solution. The way to get justice is to discuss the contradictions in our society that prevent justice. Let’s come together and figure out how we can support our black sisters and brothers. This meeting will hopefully become a group of allies who support black-led movements and actions. PLEASE INVITE FRIENDS! \n
URL:http://www.sanantoniopeace.center/event/allies-against-police-brutality-discussion/
LOCATION:217 Pershing\, San Antonio\, TX\, 78209\, United States
CATEGORIES:Other
END:VEVENT
END:VCALENDAR