BEGIN:VCALENDAR
VERSION:2.0
PRODID:-//peaceCENTER - ECPv4.6.13//NONSGML v1.0//EN
CALSCALE:GREGORIAN
METHOD:PUBLISH
X-WR-CALNAME:peaceCENTER
X-ORIGINAL-URL:http://www.sanantoniopeace.center
X-WR-CALDESC:Events for peaceCENTER
BEGIN:VEVENT
DTSTART;TZID=America/Chicago:20160615T183000
DTEND;TZID=America/Chicago:20160615T200000
DTSTAMP:20260425T164926
CREATED:20160614T083943Z
LAST-MODIFIED:20160614T083943Z
UID:7254-1466015400-1466020800@www.sanantoniopeace.center
SUMMARY:Air Quality & Health in San Antonio
DESCRIPTION:It’s Global Wind Day! Is improving the air quality in San Antonio just a bunch of hot air? Come learn about how certain air pollutants can impact you and your family’s health. Listen and lead us in a lively discussion about clearing the air- from simple actions in your community\, citizen science\, to being an engaged citizen- we can all make a difference to help everyone breathe easier in the Alamo region. \n
URL:http://www.sanantoniopeace.center/event/air-quality-health-in-san-antonio/
LOCATION:1802 N Main Ave\, San Antonio\, TX\, 78212\, United States
CATEGORIES:Other
END:VEVENT
END:VCALENDAR