BEGIN:VCALENDAR
VERSION:2.0
PRODID:-//peaceCENTER - ECPv4.6.13//NONSGML v1.0//EN
CALSCALE:GREGORIAN
METHOD:PUBLISH
X-WR-CALNAME:peaceCENTER
X-ORIGINAL-URL:http://www.sanantoniopeace.center
X-WR-CALDESC:Events for peaceCENTER
BEGIN:VEVENT
DTSTART;TZID=America/Chicago:20170620T183000
DTEND;TZID=America/Chicago:20170620T200000
DTSTAMP:20260425T003251
CREATED:20170620T013513Z
LAST-MODIFIED:20170620T013513Z
UID:10511-1497983400-1497988800@www.sanantoniopeace.center
SUMMARY:A Proud History: An Introduction to LGBTQ Art & Artists
DESCRIPTION: \nJoin William Keyse Rudolph\, Ph.D.\, The Andrew W. Mellon Chief Curator and The Marie and Hugh Halff Curator of American Art from the San Antonio Museum of Art as he shares about the unique history of LGBTQ art and artists\, specifically highlighting works in the collection of the San Antonio Museum of Art. \nLecture will contain mature themes and images that relate to sexuality including nudity and images of activity that may not be suitable for all audiences. \nVase pictured: Attic Black Figure Amphora. Attributed to the Painter of Berlin. Ca. 540 B.C. San Antonio Museum of Art\, Gift of Gilbert M. Denman Jr.\, 86.134.44. \n
URL:http://www.sanantoniopeace.center/event/a-proud-history-an-introduction-to-lgbtq-art-artists/
LOCATION:7150 IH 10 W\, San Antonio\, TX\, United States
CATEGORIES:Other
ORGANIZER;CN="Pride%20Center%20San%20Antonio":MAILTO:http://pridecentersa.org/
END:VEVENT
END:VCALENDAR