BEGIN:VCALENDAR
VERSION:2.0
PRODID:-//peaceCENTER - ECPv4.6.13//NONSGML v1.0//EN
CALSCALE:GREGORIAN
METHOD:PUBLISH
X-WR-CALNAME:peaceCENTER
X-ORIGINAL-URL:http://www.sanantoniopeace.center
X-WR-CALDESC:Events for peaceCENTER
BEGIN:VEVENT
DTSTART;TZID=America/Chicago:20160202T190000
DTEND;TZID=America/Chicago:20160202T210000
DTSTAMP:20260425T143058
CREATED:20160106T130923Z
LAST-MODIFIED:20160106T130923Z
UID:5997-1454439600-1454446800@www.sanantoniopeace.center
SUMMARY:A Good Death – Issues and Ethics
DESCRIPTION:“A good death\,” most of us would probably agree\, is something we would wish for ourselves and our loved ones.  Led by  Richard Ferguson\, M.D.\n\n 2 Tuesdays\, February 2 and 9\,  7 – 9 PM\, $35/2 sessions \nDr. Richard Ferguson will help us understand the practical\, ethical and spiritual issues about death.  “For those who have not yet died\,” as he puts it\, he will discuss ways death has been viewed throughout history\, ethical principles relating to death—including the rights and obligations of patients\, doctors\, and family members\, and examples illustrating issues arising before\, during\, and after death. \nAbout the instructor: Dr. Richard Ferguson\, M.D.\, is board-certified in both Internal Medicine and Hospice and Palliative Care\, has been an adjunct professor of Geriatrics and Palliative Care at the UT Health Science Center in San Antonio\, Medical Director of the Christus Santa Rosa Hospice\, Director of the Hospice and Palliative Care Fellowship at the San Antonio VA Medical Center\, founder of four free medical clinics\, and a frequent lecturer on end-of-life topics. \n
URL:http://www.sanantoniopeace.center/event/a-good-death-issues-and-ethics/
LOCATION:300 Bushnell\, San Antonio\, TX\, 78212\, United States
END:VEVENT
END:VCALENDAR