BEGIN:VCALENDAR
VERSION:2.0
PRODID:-//peaceCENTER - ECPv4.6.13//NONSGML v1.0//EN
CALSCALE:GREGORIAN
METHOD:PUBLISH
X-WR-CALNAME:peaceCENTER
X-ORIGINAL-URL:http://www.sanantoniopeace.center
X-WR-CALDESC:Events for peaceCENTER
BEGIN:VEVENT
DTSTART;TZID=America/Chicago:20161116T180000
DTEND;TZID=America/Chicago:20161116T200000
DTSTAMP:20260425T125822
CREATED:20161110T153203Z
LAST-MODIFIED:20161110T153857Z
UID:9044-1479319200-1479326400@www.sanantoniopeace.center
SUMMARY:Film: "Weaving the Past: Journey of Discovery"
DESCRIPTION:Chasing Light Pictures\, LLC is presenting a film screening and Q&A of Weaving the Past: Journey of Discovery. \nThis critically-acclaimed film tells the untold stories of Mexican-American history\, culture and ancestry\, particularly the decade-long quest of filmmaker\, writer\, and producer Walter Dominguez to unlock the secrets of his long lost family of origin in Mexico and to learn more about the life of his grandfather Emilio Hernandez and the forces that compelled him to immigrate from Mexico to the U.S. \nFor more info\, visit http://copp.utsa.edu/weavingthepast \nFor more info on the movie\, you can visit www.weavingthepast.com \n \nThe event is sponsored by the UTSA College of Public Policy and co-sponsored with the Mexican-American Studies Program\, the Mexican-American Studies Student Organization\, and the UTSA Mexico Center. Film is presented by Chasing Light Pictures\, LLC. \n
URL:http://www.sanantoniopeace.center/event/9044/
LOCATION:501 W. César E. Chávez Blvd.\, San Antonio\, TX\, 78207\, United States
CATEGORIES:Other
END:VEVENT
END:VCALENDAR