BEGIN:VCALENDAR
VERSION:2.0
PRODID:-//peaceCENTER - ECPv4.6.13//NONSGML v1.0//EN
CALSCALE:GREGORIAN
METHOD:PUBLISH
X-WR-CALNAME:peaceCENTER
X-ORIGINAL-URL:http://www.sanantoniopeace.center
X-WR-CALDESC:Events for peaceCENTER
BEGIN:VEVENT
DTSTART;TZID=America/Chicago:20141221T190000
DTEND;TZID=America/Chicago:20141221T200000
DTSTAMP:20260425T172240
CREATED:20141205T182053Z
LAST-MODIFIED:20141205T182053Z
UID:1586-1419188400-1419192000@www.sanantoniopeace.center
SUMMARY:8th Annual Homeless Persons' Memorial Service
DESCRIPTION:SAMMinistries invites you the 8th Annual Homeless Persons’ Memorial Service at 7:00pm on Sunday\, December 21\, at Milam Park (500 W. Commerce.) Pastor Kelly Allen of University Presbyterian Church  will be giving the meditation. All are invited to honor the lives of friends\, family members and neighbors who passed away while homeless in 2014. \n\n
URL:http://www.sanantoniopeace.center/event/8th-annual-homeless-persons-memorial-service/
LOCATION:500 W. Commerce\, San Antonio\, TX\, 78207\, United States
END:VEVENT
END:VCALENDAR