BEGIN:VCALENDAR
VERSION:2.0
PRODID:-//peaceCENTER - ECPv4.6.13//NONSGML v1.0//EN
CALSCALE:GREGORIAN
METHOD:PUBLISH
X-WR-CALNAME:peaceCENTER
X-ORIGINAL-URL:http://www.sanantoniopeace.center
X-WR-CALDESC:Events for peaceCENTER
BEGIN:VEVENT
DTSTART;TZID=America/Chicago:20161011T080000
DTEND;TZID=America/Chicago:20161012T170000
DTSTAMP:20260425T163024
CREATED:20160908T114747Z
LAST-MODIFIED:20160908T114747Z
UID:8607-1476172800-1476291600@www.sanantoniopeace.center
SUMMARY:3rd Bi-Annual SAPD Violence Intervention Conference
DESCRIPTION:The goals of this conference are to provide education and training for professionals working with victims and offenders of domestic violence and sexual assault \n \n
URL:http://www.sanantoniopeace.center/event/3rd-bi-annual-sapd-violence-intervention-conference/
LOCATION:618 NW Loop 410\, San Antonio\, TX\, 78216\, United States
CATEGORIES:Other
END:VEVENT
END:VCALENDAR