BEGIN:VCALENDAR
VERSION:2.0
PRODID:-//peaceCENTER - ECPv4.6.13//NONSGML v1.0//EN
CALSCALE:GREGORIAN
METHOD:PUBLISH
X-WR-CALNAME:peaceCENTER
X-ORIGINAL-URL:http://www.sanantoniopeace.center
X-WR-CALDESC:Events for peaceCENTER
BEGIN:VEVENT
DTSTART;TZID=America/Chicago:20161101T170000
DTEND;TZID=America/Chicago:20161101T200000
DTSTAMP:20260425T140413
CREATED:20161011T131243Z
LAST-MODIFIED:20161011T131243Z
UID:8833-1478019600-1478030400@www.sanantoniopeace.center
SUMMARY:2nd Annual San Antonio Sustainability Summit
DESCRIPTION:Registration is now open for the second annual Sustainability Summit. This free admission event will focus on the City Council-adopted SA Tomorrow Sustainability Plan by outlining the goals\, actionable strategies and targets in key areas such as green building and infrastructure\, food systems and alternative transportation. \nThe Summit will also feature an awards ceremony honoring community programs and building structures that promote sustainability through engagement with the people who use it and the environment that surrounds it. \nFive interactive sessions will take place during the Sustainability Summit:\nRapid-fire Presentations by industry leaders for listening\, learning and inspiring action.\nDigital Tool Box Room with live demonstrations of mobile apps to make sustainable practices easier with the touch of a button.\nEngagement Room focused on providing the community with the tools and information needed to take steps for living more sustainably.\nInformational Tables with area partners\, including San Antonio Water System\, CPS Energy\, San Antonio River Authority\, Office of Emergency Management\, VIA\, B-Cycle\, International Dark-Sky Association\, EcoCentro and Earn-A-Bike.\nSustainability Awards to honor those individuals\, organizations and projects that embody leadership in contributing to the sustainability of our community. \nThe Sustainability Summit is presented in part by CPS Energy\, San Antonio Water System\, San Antonio River Authority and Office Depot. \nFor more information on the Sustainability Summit and to register\, visit sanantonio.gov/sustainabilitysummit or call 210-207-1449. Free parking for the summit is available at City-operated parking garages\, parking lots and parking meters courtesy of Downtown Tuesday. \n
URL:http://www.sanantoniopeace.center/event/2nd-annual-san-antonio-sustainability-summit/
LOCATION:900 E Market St\, San Antonio\, TX\, 78206\, United States
CATEGORIES:Other
END:VEVENT
END:VCALENDAR