BEGIN:VCALENDAR
VERSION:2.0
PRODID:-//peaceCENTER - ECPv4.6.13//NONSGML v1.0//EN
CALSCALE:GREGORIAN
METHOD:PUBLISH
X-WR-CALNAME:peaceCENTER
X-ORIGINAL-URL:http://www.sanantoniopeace.center
X-WR-CALDESC:Events for peaceCENTER
BEGIN:VEVENT
DTSTART;TZID=America/Chicago:20150118T160000
DTEND;TZID=America/Chicago:20150118T170000
DTSTAMP:20260425T121747
CREATED:20141220T195626Z
LAST-MODIFIED:20141220T195626Z
UID:1767-1421596800-1421600400@www.sanantoniopeace.center
SUMMARY:28th Annual MLK\, Jr. Interfaith Worship Service
DESCRIPTION:The 28th annual Rev. Martin Luther King\, Jr. citywide Interfaith Worship Service will feature guest speaker Rabbi Mara Nathan\, the first woman to serve as senior rabbi of a major congregation in Texas. For more information\, contact Dr. John Abdo at drjohnabdo@yahoo.com. \n
URL:http://www.sanantoniopeace.center/event/28th-annual-mlk-jr-interfaith-worship-service/
LOCATION:211 Bellknap Place\, San Antonio\, TX\, United States
ORGANIZER;CN="MLK%2C%20Jr.%20Interfaith%20Commission":MAILTO:drjohnabdo@yahoo.com.
END:VEVENT
END:VCALENDAR