BEGIN:VCALENDAR
VERSION:2.0
PRODID:-//peaceCENTER - ECPv4.6.13//NONSGML v1.0//EN
CALSCALE:GREGORIAN
METHOD:PUBLISH
X-WR-CALNAME:peaceCENTER
X-ORIGINAL-URL:http://www.sanantoniopeace.center
X-WR-CALDESC:Events for peaceCENTER
BEGIN:VEVENT
DTSTART;TZID=America/Chicago:20180223T083000
DTEND;TZID=America/Chicago:20180223T163000
DTSTAMP:20260424T210818
CREATED:20180122T025452Z
LAST-MODIFIED:20180122T025452Z
UID:12022-1519374600-1519403400@www.sanantoniopeace.center
SUMMARY:2018 Immigration Symposium
DESCRIPTION: \nSymposium’s focus will be on the practical aspects of immigration law and the current policy debates surrounding the field. Our goal is to present a compelling CLE program for immigration and non-immigration practitioners alike\, as well as to provide an engaging educational experience for current law students. \n
URL:http://www.sanantoniopeace.center/event/2018-immigration-symposium/
LOCATION:618 NW Loop 410\, San Antonio\, TX\, 78216\, United States
END:VEVENT
END:VCALENDAR